BEGIN:VCALENDAR
VERSION:2.0
PRODID:-//ChamberMaster//Event Calendar 2.0//EN
METHOD:PUBLISH
X-PUBLISHED-TTL:P3D
REFRESH-INTERVAL:P3D
CALSCALE:GREGORIAN
BEGIN:VEVENT
DTSTART:20251030T160000Z
DTEND:20251030T170000Z
X-MICROSOFT-CDO-ALLDAYEVENT:FALSE
SUMMARY:Veterinary Technology Information Session
DESCRIPTION:Discover Ridgewater College's nationally recognized Veterinary Technology program. Our state-of-the-art facilities\, including our Paws and Claws Clinic\, give students excellent hands-on practice. As Minnesota's longest running program of its kind\, we will prepare you for a rewarding and exciting career!\n\n\n	Meet faculty during a program overview and industry outlook\n	Explore the curriculum plan/coursework\n	Tour department\, clinic and kennel\n	Learn about admissions\, financial aid and the North Star Promise program (free tuition)\n\n\nReserve your spot\n\n\n	Call 320-222-5971\n	Register online\n\n\n\n\nContact\n\nCiera Conrad\n\nciera.conrad@ridgewater.edu\n\n320-234-8505
X-ALT-DESC;FMTTYPE=text/html:<div>\n<p>Discover Ridgewater College&rsquo\;s nationally recognized Veterinary Technology program. Our state-of-the-art facilities\, including our Paws and Claws Clinic\, give students excellent hands-on practice. As Minnesota&rsquo\;s longest running program of its kind\, we will prepare you for a rewarding and exciting career!</p>\n\n<ul>\n	<li>Meet faculty during a program overview and industry outlook</li>\n	<li>Explore the curriculum plan/coursework</li>\n	<li>Tour department\, clinic and kennel</li>\n	<li>Learn about admissions\, financial aid and the North Star Promise program (free tuition)</li>\n</ul>\n\n<h3>Reserve your spot</h3>\n\n<ul>\n	<li>Call&nbsp\;<a href="tel:3202225971" style="box-sizing: border-box\; color: rgb(181\, 9\, 56)\; text-decoration-line: none\; background-color: transparent\; font-weight: 700\;">320-222-5971</a></li>\n	<li><a href="https://admissions.ridgewater.edu/register/vettech_10302025" rel="noopener" style="box-sizing: border-box\; color: rgb(181\, 9\, 56)\; text-decoration-line: none\; background-color: transparent\; font-weight: 700\;" target="_blank">Register online</a></li>\n</ul>\n</div>\n\n<div>\n<h3>Contact</h3>\n\n<p>Ciera Conrad</p>\n\n<p><a href="mailto:ciera.conrad@ridgewater.edu" style="box-sizing: border-box\; color: rgb(181\, 9\, 56)\; text-decoration-line: none\; background-color: transparent\; font-weight: 700\;">ciera.conrad@ridgewater.edu</a></p>\n\n<p>320-234-8505</p>\n</div>\n
LOCATION:Virtual on Zoom
UID:e.653.341432
SEQUENCE:3
DTSTAMP:20260421T113611Z
URL:https://public.willmarareachamber.com/events/details/veterinary-technology-information-session-10-30-2025-341432
END:VEVENT

END:VCALENDAR
