BEGIN:VCALENDAR
VERSION:2.0
PRODID:-//ChamberMaster//Event Calendar 2.0//EN
METHOD:PUBLISH
X-PUBLISHED-TTL:P3D
REFRESH-INTERVAL:P3D
CALSCALE:GREGORIAN
BEGIN:VEVENT
DTSTART:20251021T130000Z
DTEND:20251021T143000Z
X-MICROSOFT-CDO-ALLDAYEVENT:FALSE
SUMMARY:Unlocking Financial Planning Opportunities Under OBBBA
DESCRIPTION:Join local accounting firms Anfinson Thompson\, CDS CPAs and Advisors\, Christianson CPAs and Consultants\, and Westberg Eischens for a comprehensive OBBBA summary\, tax updates\, and the latest on Minnesota's Paid Leave.\n\n\n\nTopics include: \n\n	Business Tax Provisions - Learn strategies to optimize your business's tax position in light of OBBBA changes.\n	Individual Tax Provisions - Discover how the OBBBA's updated provisions may impact your individual tax situation.\n	Minnesota Paid Leave - Get a clear\, actionable overview of Minnesota's new Paid Leave legislation from a local CPA firm.
X-ALT-DESC;FMTTYPE=text/html:Join local accounting firms Anfinson Thompson\, CDS CPAs and Advisors\, Christianson CPAs and Consultants\, and Westberg Eischens for a comprehensive OBBBA summary\, tax updates\, and the latest on Minnesota's Paid Leave.<br>\n<br>\n<strong>Topics include:&nbsp\;</strong>\n<ul>\n	<li>Business Tax Provisions - Learn strategies to optimize your business's tax position in light of OBBBA changes.</li>\n	<li>Individual Tax Provisions - Discover how the OBBBA's updated provisions may impact your individual tax situation.</li>\n	<li>Minnesota Paid Leave - Get a clear\, actionable overview of Minnesota's new Paid Leave legislation from a local CPA firm.</li>\n</ul>\n
LOCATION:Willmar Conference Center
UID:e.653.341425
SEQUENCE:3
DTSTAMP:20260421T131331Z
URL:https://public.willmarareachamber.com/events/details/unlocking-financial-planning-opportunities-under-obbba-341425
END:VEVENT

END:VCALENDAR
