BEGIN:VCALENDAR
VERSION:2.0
PRODID:-//ChamberMaster//Event Calendar 2.0//EN
METHOD:PUBLISH
X-PUBLISHED-TTL:P3D
REFRESH-INTERVAL:P3D
CALSCALE:GREGORIAN
BEGIN:VEVENT
DTSTART:20250225T180000Z
DTEND:20250225T190000Z
X-MICROSOFT-CDO-ALLDAYEVENT:FALSE
SUMMARY:The Retirement Shift: Tax Deferral vs Life Deferral
DESCRIPTION:Ready to break free from outdated financial rules? Join Tim Mattern\, NSSA \, as he reveals how to build wealth on your terms. Learn why traditional retirement planning is being disrupted and discover strategic ways to grow your money while maintaining the lifestyle you want. This isn't your parents' retirement strategy   it's a blueprint for financial freedom that works with today's rapidly evolving economy.
X-ALT-DESC;FMTTYPE=text/html:Ready to break free from outdated financial rules? Join Tim Mattern\, NSSA&reg\;\, as he reveals how to build wealth on your terms. Learn why traditional retirement planning is being disrupted and discover strategic ways to grow your money while maintaining the lifestyle you want. This isn&#39\;t your parents&#39\; retirement strategy &ndash\; it&#39\;s a blueprint for financial freedom that works with today&#39\;s rapidly evolving economy.
LOCATION:Heritage Bank Community Room Please park in the north lot and enter through the Heritage Bank doors.
UID:e.653.341356
SEQUENCE:3
DTSTAMP:20260422T025931Z
URL:https://public.willmarareachamber.com/events/details/the-retirement-shift-tax-deferral-vs-life-deferral-341356
END:VEVENT

END:VCALENDAR
