BEGIN:VCALENDAR
VERSION:2.0
PRODID:-//ChamberMaster//Event Calendar 2.0//EN
METHOD:PUBLISH
X-PUBLISHED-TTL:P3D
REFRESH-INTERVAL:P3D
CALSCALE:GREGORIAN
BEGIN:VEVENT
DTSTART:20251009T160000Z
DTEND:20251009T170000Z
X-MICROSOFT-CDO-ALLDAYEVENT:FALSE
SUMMARY:The Marketing Method That Ends the Guesswork: Know What to Do Next & What Results to Expect
DESCRIPTION:Running a small business or small marketing department while constantly chasing new marketing trends that waste your time\, money\, and resources without delivering real results? Find out how to eliminate the endless cycle of trying new tactics and get a clear roadmap to success. You'll discover how to build a solid foundation\, capture ready-to-buy customers\, expand your reach\, and create lasting loyalty using a systematic approach that turns marketing confusion into consistent results and increases customer activity without the overwhelm.
X-ALT-DESC;FMTTYPE=text/html:<span style="font-family:arial\,sans-serif\; font-size:11pt">Running a small business or small marketing department while constantly chasing new marketing trends that waste your time\, money\, and resources without delivering real results? Find out how to eliminate the endless cycle of trying new tactics and get a clear roadmap to success. You&#39\;ll discover how to build a solid foundation\, capture ready-to-buy customers\, expand your reach\, and create lasting loyalty using a systematic approach that turns marketing confusion into consistent results and increases customer activity without the overwhelm.</span>
LOCATION:Free online webinar\, but registration is required
UID:e.653.341401
SEQUENCE:3
DTSTAMP:20260421T131749Z
URL:https://public.willmarareachamber.com/events/details/the-marketing-method-that-ends-the-guesswork-know-what-to-do-next-what-results-to-expect-341401
END:VEVENT

END:VCALENDAR
