BEGIN:VCALENDAR
VERSION:2.0
PRODID:-//ChamberMaster//Event Calendar 2.0//EN
METHOD:PUBLISH
X-PUBLISHED-TTL:P3D
REFRESH-INTERVAL:P3D
CALSCALE:GREGORIAN
BEGIN:VEVENT
DTSTART:20250911T160000Z
DTEND:20250911T170000Z
X-MICROSOFT-CDO-ALLDAYEVENT:FALSE
SUMMARY:Social Media 101: The Basics for Small Business
DESCRIPTION:Feeling overwhelmed by social media and not sure which platforms your small business should actually be using? This webinar breaks down the essentials you need to know\, from choosing the right platforms for your audience to creating content that engages new and existing customers. You'll learn practical strategies that fit your busy schedule and help you build a social media presence that supports your business goals.
X-ALT-DESC;FMTTYPE=text/html:<span style="font-family:arial\,sans-serif\; font-size:11pt">Feeling overwhelmed by social media and not sure which platforms your small business should actually be using? This webinar breaks down the essentials you need to know\, from choosing the right platforms for your audience to creating content that engages new and existing customers. You&#39\;ll learn practical strategies that fit your busy schedule and help you build a social media presence that supports your business goals.</span>
LOCATION:Free online webinar\, but registration is required.
UID:e.653.341400
SEQUENCE:3
DTSTAMP:20260421T131448Z
URL:https://public.willmarareachamber.com/events/details/social-media-101-the-basics-for-small-business-341400
END:VEVENT

END:VCALENDAR
