BEGIN:VCALENDAR
VERSION:2.0
PRODID:-//ChamberMaster//Event Calendar 2.0//EN
METHOD:PUBLISH
X-PUBLISHED-TTL:P3D
REFRESH-INTERVAL:P3D
CALSCALE:GREGORIAN
BEGIN:VEVENT
DTSTART:20251022T220000Z
DTEND:20251022T230000Z
X-MICROSOFT-CDO-ALLDAYEVENT:FALSE
SUMMARY:Ridgewater Welcomes Guest Photographer Xavier Tavera
DESCRIPTION:Ridgewater College is excited to welcome photographer Xavier Tavera to the Willmar campus for a gallery presentation and reception on Wednesday\, October 22\, 2025\, at 5 p.m. in the Fine Arts Theatre.\n\n\n\nRidgewater College is showing Xavier Tavera: Willmar Portraits\, now through November 7 in the Willmar Campus Fine Arts Gallery. Tavera has created eleven new portraits for the exhibition\, highlighting Willmar's Latin culture. The unique presentation consists of newsprint papers tacked onto gallery walls with copies available for visitors. Tavera visited Willmar in early 2025 to seek out subjects and create photographs that highlight his straightforward and conscientious style. The Portrait project is meant to honor\, celebrate and praise the current Latin community in Willmar.\n\n \n\nTo learn more about Xavier Tavera\, visit www.xaviertavera.com
X-ALT-DESC;FMTTYPE=text/html:Ridgewater College is excited to welcome photographer Xavier Tavera to the Willmar campus for a gallery presentation and reception on Wednesday\, October 22\, 2025\, at 5 p.m. in the Fine Arts Theatre.<br />\n<br />\nRidgewater College is showing Xavier Tavera: Willmar Portraits\, now through November 7&nbsp\;in the Willmar Campus Fine Arts Gallery. Tavera has created eleven new portraits for the exhibition\, highlighting Willmar&#39\;s Latin culture. The unique presentation consists of newsprint papers tacked onto gallery walls with copies available for visitors. Tavera visited Willmar in early 2025 to seek out subjects and create photographs that highlight his straightforward and conscientious style. The Portrait project is meant to honor\, celebrate and praise the current Latin community in Willmar.<br />\n&nbsp\;<br />\nTo learn more about Xavier Tavera\, visit <a href="http://www.xaviertavera.com/">www.xaviertavera.com</a>
LOCATION:Ridgewater College\, Willmar Campus Fine Arts Building
UID:e.653.341440
SEQUENCE:3
DTSTAMP:20260421T114120Z
URL:https://public.willmarareachamber.com/events/details/ridgewater-welcomes-guest-photographer-xavier-tavera-341440
END:VEVENT

END:VCALENDAR
