BEGIN:VCALENDAR
VERSION:2.0
PRODID:-//ChamberMaster//Event Calendar 2.0//EN
METHOD:PUBLISH
X-PUBLISHED-TTL:P3D
REFRESH-INTERVAL:P3D
CALSCALE:GREGORIAN
BEGIN:VEVENT
DTSTART:20241023T170000Z
DTEND:20241023T180000Z
X-MICROSOFT-CDO-ALLDAYEVENT:FALSE
SUMMARY:Ridgewater College Ag Tour
DESCRIPTION:Join us for an insightful look into Ridgewater College's Agriculture and Vet Tech Departments! They'll showcase their diverse degree offerings\, highlight exciting recent developments such as AED Accreditation for the Ag Equipment Mechanic program\, and introduce new certificates like Meat Cutting and Ag Marketing & Communications. Plus\, you'll get an up-close look at state-of-the-art teaching tools\, including simulators and advanced technology spaces.
X-ALT-DESC;FMTTYPE=text/html:Join us for an insightful look into Ridgewater College&#39\;s Agriculture and Vet Tech Departments! They&#39\;ll showcase their diverse degree offerings\, highlight exciting recent developments such as AED Accreditation for the Ag Equipment Mechanic program\, and introduce new certificates like Meat Cutting and Ag Marketing &amp\; Communications. Plus\, you&#39\;ll get an up-close look at state-of-the-art teaching tools\, including simulators and advanced technology spaces.
LOCATION:Ridgewater College | Willmar\, MN Please park in the G-West Lot and enter via door 36
UID:e.653.341307
SEQUENCE:3
DTSTAMP:20260421T195119Z
URL:https://public.willmarareachamber.com/events/details/ridgewater-college-ag-tour-341307
END:VEVENT

END:VCALENDAR
