BEGIN:VCALENDAR
VERSION:2.0
PRODID:-//ChamberMaster//Event Calendar 2.0//EN
METHOD:PUBLISH
X-PUBLISHED-TTL:P3D
REFRESH-INTERVAL:P3D
CALSCALE:GREGORIAN
BEGIN:VEVENT
DTSTART:20260129T183000Z
DTEND:20260129T193000Z
X-MICROSOFT-CDO-ALLDAYEVENT:FALSE
SUMMARY:Professional Photography Information Session
DESCRIPTION:Develop your skills\, confidence and a photographic eye in Ridgewater's Professional Photography program through either full-time or part-time class options. Become a professional photographer OR take a single course for your hobby. Master your camera settings\, maximize photo editing software\, and learn portrait and commercial photography and video strategies to develop your own style!\n\n\n	Program overview with faculty instructors\n	Discover program versatility and career opportunities\n	Learn about admissions\, financial aid and the North Star Promise program (free tuition)\n\n\nReserve your spot\n\n\n	Call 320-222-5973\n	Register online\n\n\n\n\nContact\n\nMark Brendemuehl\n\nmark.brendemuehl@ridgewater.edu\n\n320-234-851
X-ALT-DESC;FMTTYPE=text/html:<div>\n<p>Develop your skills\, confidence and a photographic eye in Ridgewater&rsquo\;s Professional Photography program through either full-time or part-time class options. Become a professional photographer OR take a single course for your hobby. Master your camera settings\, maximize photo editing software\, and learn portrait and commercial photography and video strategies to develop your own style!</p>\n\n<ul>\n	<li>Program overview with faculty instructors</li>\n	<li>Discover program versatility and career opportunities</li>\n	<li>Learn about admissions\, financial aid and the North Star Promise program (free tuition)</li>\n</ul>\n\n<h3>Reserve your spot</h3>\n\n<ul>\n	<li>Call&nbsp\;<a href="tel:3202225971" style="color: rgb(181\, 9\, 56)\; box-sizing: border-box\; text-decoration-line: none\; background-color: transparent\; font-weight: 700\;">320-222-5973</a></li>\n	<li><a href="https://admissions.ridgewater.edu/register/photo_01292026" rel="noopener" style="color: rgb(181\, 9\, 56)\; box-sizing: border-box\; text-decoration-line: none\; background-color: transparent\; font-weight: 700\;" target="_blank">Register online</a></li>\n</ul>\n</div>\n\n<div>\n<h3>Contact</h3>\n\n<p>Mark Brendemuehl</p>\n\n<p><a href="mailto:mark.brendemuehl@ridgewater.edu" style="color: rgb(181\, 9\, 56)\; box-sizing: border-box\; text-decoration-line: none\; background-color: transparent\; font-weight: 700\;">mark.brendemuehl@ridgewater.edu</a></p>\n\n<p>320-234-851</p>\n</div>\n
LOCATION:Virtual on Zoom
UID:e.653.341460
SEQUENCE:3
DTSTAMP:20260419T151645Z
URL:https://public.willmarareachamber.com/events/details/professional-photography-information-session-01-29-2026-341460
END:VEVENT

END:VCALENDAR
