BEGIN:VCALENDAR
VERSION:2.0
PRODID:-//ChamberMaster//Event Calendar 2.0//EN
METHOD:PUBLISH
X-PUBLISHED-TTL:P3D
REFRESH-INTERVAL:P3D
CALSCALE:GREGORIAN
BEGIN:VEVENT
DTSTART:20251211T140000Z
DTEND:20251211T144500Z
X-MICROSOFT-CDO-ALLDAYEVENT:FALSE
SUMMARY:Presidential Search Community Listening Sessions
DESCRIPTION:Ridgewater College invites members of the public to participate in community listening sessions as part of the search for the College's next president. Minnesota State Chancellor Scott Olson will host listening sessions on Thursday\, December 11 at both the Willmar and Hutchinson campuses. Listening sessions are open to the public\, and all community members are encouraged to attend. Each session is forty-five minutes in length.\n\nListening sessions are an opportunity for community members to share their perspectives on the qualities and priorities they believe are important for Ridgewater's next leader. Feedback will help guide the presidential search process. Interested community members are encourage to RSVP to debbie.ardoff@ridgewater.edu.
X-ALT-DESC;FMTTYPE=text/html:<p>Ridgewater College invites members of the public to participate in community listening sessions as part of the search for the College&rsquo\;s next president. Minnesota State Chancellor Scott Olson will host listening sessions on Thursday\, December 11 at both the Willmar and Hutchinson campuses. Listening sessions are open to the public\, and all community members are encouraged to attend. Each session is forty-five minutes in length.</p>\n\n<p>Listening sessions are an opportunity for community members to share their perspectives on the qualities and priorities they believe are important for Ridgewater&rsquo\;s next leader. Feedback will help guide the presidential search process. Interested community members are encourage to RSVP to&nbsp\;<a href="mailto:debbie.ardoff@ridgewater.edu" rel="noopener" target="_blank">debbie.ardoff@ridgewater.edu</a>.</p>\n
LOCATION:Willmar Campus\, Student Center Building\, second floor Dining Center 2101 15th Ave NW\, Willmar\, MN 56201
UID:e.653.341446
SEQUENCE:3
DTSTAMP:20260421T083802Z
URL:https://public.willmarareachamber.com/events/details/presidential-search-community-listening-sessions-341446
END:VEVENT

END:VCALENDAR
