BEGIN:VCALENDAR
VERSION:2.0
PRODID:-//ChamberMaster//Event Calendar 2.0//EN
METHOD:PUBLISH
X-PUBLISHED-TTL:P3D
REFRESH-INTERVAL:P3D
CALSCALE:GREGORIAN
BEGIN:VEVENT
DTSTART:20251118T180000Z
DTEND:20251118T190000Z
X-MICROSOFT-CDO-ALLDAYEVENT:FALSE
SUMMARY:Non-Traditional Career Pivots + Resiliency Lunch + Learn
DESCRIPTION:Ready to be inspired?   Join us for a high-energy Lunch + Learn all about non-traditional career pivots and the power of resiliency!\n\n\n\nWe're bringing together three incredible local leaders who prove that success isn't always a straight line   it's built through grit\, growth\, and bold new beginnings!  \n\n\n\nKami Anez - President & Owner\, Anez Consulting\n\nWith a Doctor of Pharmacy degree and a strong foundation in science and chemistry\, Kami stepped up to lead Anez Consulting after the sudden passing of her husband   all while raising six children. Her story is one of strength\, perseverance\, and purpose.  \n\n\n\nTyler Gehrking - Account Executive\, Lakeland Media\n\nOnce a teacher and KCEO instructor at Willmar High School\, Tyler transformed his love for creativity and connection into a new career path. He founded and built TEN17 Media from the ground up\, and in 2024 sold it to Subartic Media\, which later merged with Lakeland Media. His story is a powerful example of adaptability\, innovation\, and fearless growth.  \n\n\n\nHeather Thompson - Partner & Firm Administrator\, Conway Deuth & Schmiesing\, PLLP (CDS)\n\nAs a non-CPA partner at a local accounting firm\, Heather has carved out a unique leadership role in a traditionally credential-driven industry. She'll share how leveraging her strengths and experiences led her to success outside the conventional route.  \n\n\n\nProfessional growth isn't just about changing jobs   it's about strengthening your mindset\, expanding your perspective\, and learning from others who've faced big challenges and come out stronger.  \n\n\n\nThis conversation will spark fresh ideas about leadership\, adaptability\, and the power of resilience   skills that matter in every career stage. You'll walk away with new insights\, renewed motivation\, and connections that can inspire your next bold move   whenever it comes.
X-ALT-DESC;FMTTYPE=text/html:Ready to be inspired? &#128640\; Join us for a high-energy Lunch + Learn all about non-traditional career pivots and the power of resiliency!<br />\n<br />\nWe&rsquo\;re bringing together three incredible local leaders who prove that success isn&rsquo\;t always a straight line &mdash\; it&rsquo\;s built through grit\, growth\, and bold new beginnings! &#128293\;<br />\n<br />\n<strong>Kami Anez - President &amp\; Owner\, Anez Consulting</strong><br />\nWith a Doctor of Pharmacy degree and a strong foundation in science and chemistry\, Kami stepped up to lead Anez Consulting after the sudden passing of her husband &mdash\; all while raising six children. Her story is one of strength\, perseverance\, and purpose. &#129514\;<br />\n<br />\n<strong>Tyler Gehrking - Account Executive\, Lakeland Media</strong><br />\nOnce a teacher and KCEO instructor at Willmar High School\, Tyler transformed his love for creativity and connection into a new career path. He founded and built TEN17 Media from the ground up\, and in 2024 sold it to Subartic Media\, which later merged with Lakeland Media. His story is a powerful example of adaptability\, innovation\, and fearless growth.&nbsp\;&#128165\;<br />\n<br />\n<strong>Heather Thompson - Partner &amp\; Firm Administrator\, Conway Deuth &amp\; Schmiesing\, PLLP (CDS)</strong><br />\nAs a non-CPA partner at a local accounting firm\, Heather has carved out a unique leadership role in a traditionally credential-driven industry. She&rsquo\;ll share how leveraging her strengths and experiences led her to success outside the conventional route.&nbsp\;&#128188\;<br />\n<br />\nProfessional growth isn&rsquo\;t just about changing jobs &mdash\; it&rsquo\;s about strengthening your mindset\, expanding your perspective\, and learning from others who&rsquo\;ve faced big challenges and come out stronger. &#127793\;<br />\n<br />\nThis conversation will spark fresh ideas about leadership\, adaptability\, and the power of resilience &mdash\; skills that matter in every career stage. You&rsquo\;ll walk away with new insights\, renewed motivation\, and connections that can inspire your next bold move &mdash\; whenever it comes. &#10024\;
LOCATION:Conway Deuth & Schmiesing\, PLLP
UID:e.653.341444
SEQUENCE:3
DTSTAMP:20260421T101125Z
URL:https://public.willmarareachamber.com/events/details/non-traditional-career-pivots-resiliency-lunch-learn-341444
END:VEVENT

END:VCALENDAR
