BEGIN:VCALENDAR
VERSION:2.0
PRODID:-//ChamberMaster//Event Calendar 2.0//EN
METHOD:PUBLISH
X-PUBLISHED-TTL:P3D
REFRESH-INTERVAL:P3D
CALSCALE:GREGORIAN
BEGIN:VEVENT
DTSTART:20251207T011000Z
DTEND:20251207T030000Z
X-MICROSOFT-CDO-ALLDAYEVENT:FALSE
SUMMARY:neXt - WarHawks Game
DESCRIPTION:Join neXt for a family-friendly night of hockey\, networking\, and fun! Cheer on the Willmar WarHawks\, connect with fellow young professionals\, and enjoy great food\, drinks\, and camaraderie. Don't miss this exciting evening that scores big on community and connections!
X-ALT-DESC;FMTTYPE=text/html:Join neXt for a family-friendly night of hockey\, networking\, and fun! Cheer on the Willmar WarHawks\, connect with fellow young professionals\, and enjoy great food\, drinks\, and camaraderie. Don&rsquo\;t miss this exciting evening that scores big on community and connections! &#127954\;
LOCATION:Willmar Civic Center
UID:e.653.341441
SEQUENCE:3
DTSTAMP:20260421T114252Z
URL:https://public.willmarareachamber.com/events/details/next-warhawks-game-341441
END:VEVENT

END:VCALENDAR
