BEGIN:VCALENDAR
VERSION:2.0
PRODID:-//ChamberMaster//Event Calendar 2.0//EN
METHOD:PUBLISH
X-PUBLISHED-TTL:P3D
REFRESH-INTERVAL:P3D
CALSCALE:GREGORIAN
BEGIN:VEVENT
DTSTART:20241208T011000Z
DTEND:20241208T030000Z
X-MICROSOFT-CDO-ALLDAYEVENT:FALSE
SUMMARY:neXt - WarHawks Game
DESCRIPTION:neXt is presenting a family-friendly networking event with the Willmar WarHawks.
X-ALT-DESC;FMTTYPE=text/html:<span class="JsGRdQ" style="color: rgb(56\, 55\, 55)\;">neXt is presenting</span><span class="JsGRdQ white-space-prewrap" style="color: rgb(56\, 55\, 55)\;"> </span><span class="JsGRdQ" style="color: rgb(56\, 55\, 55)\;">a family-friendly networking event with the Willmar WarHawks.</span>
LOCATION:Willmar Civic Center 2707 Arena Dr\, Willmar\, MN 56201
UID:e.653.341304
SEQUENCE:3
DTSTAMP:20260421T231828Z
URL:https://public.willmarareachamber.com/events/details/next-warhawks-game-341304
END:VEVENT

END:VCALENDAR
