BEGIN:VCALENDAR
VERSION:2.0
PRODID:-//ChamberMaster//Event Calendar 2.0//EN
METHOD:PUBLISH
X-PUBLISHED-TTL:P3D
REFRESH-INTERVAL:P3D
CALSCALE:GREGORIAN
BEGIN:VEVENT
DTSTART:20240917T203000Z
DTEND:20240917T220000Z
X-MICROSOFT-CDO-ALLDAYEVENT:FALSE
SUMMARY:neXt Olympics Kick-Off
DESCRIPTION:Mark your calendar to join us for our annual kick-off - Olympics style! Bring a friend or come on your own to try your hand at modified javelin\, archery\, mental gymnastics\, and discus. No Olympic skills necessary. This is event is free and open to the public.
X-ALT-DESC;FMTTYPE=text/html:Mark your calendar to join us for our annual kick-off - Olympics style! Bring a friend or come on your own to try your hand at modified javelin\, archery\, mental gymnastics\, and discus. No Olympic skills necessary. This is event is free and open to the public.
LOCATION:Willmar Conference Center
UID:e.653.341295
SEQUENCE:3
DTSTAMP:20260421T181018Z
URL:https://public.willmarareachamber.com/events/details/next-olympics-kick-off-341295
END:VEVENT

END:VCALENDAR
