BEGIN:VCALENDAR
VERSION:2.0
PRODID:-//ChamberMaster//Event Calendar 2.0//EN
METHOD:PUBLISH
X-PUBLISHED-TTL:P3D
REFRESH-INTERVAL:P3D
CALSCALE:GREGORIAN
BEGIN:VEVENT
DTSTART:20230914T203000Z
DTEND:20230914T220000Z
X-MICROSOFT-CDO-ALLDAYEVENT:FALSE
SUMMARY:neXt Game Show Patio Party
DESCRIPTION:NeXt was formed to attract and retain young talent in the community\, while developing the next generation of leaders. Focused on young adults\, we use fun activities and structured educational opportunities to help you grow your network\, learn new skills and develop as a leader. Join us for a mixer and learn more about what the program has in store and how to get involved while enjoying a complimentary taco bar.
X-ALT-DESC;FMTTYPE=text/html:NeXt was formed to attract and retain young talent in the community\, while developing the next generation of leaders. Focused on young adults\, we use fun activities and structured educational opportunities to help you grow your network\, learn new skills and develop as a leader. Join us for a mixer and learn more about what the program has in store and how to get involved while enjoying a complimentary taco bar.&nbsp\;
LOCATION:Ruff's Wings and Sports Bar Patio
UID:e.653.341172
SEQUENCE:3
DTSTAMP:20260422T010345Z
URL:https://public.willmarareachamber.com/events/details/next-game-show-patio-party-341172
END:VEVENT

END:VCALENDAR
