BEGIN:VCALENDAR
VERSION:2.0
PRODID:-//ChamberMaster//Event Calendar 2.0//EN
METHOD:PUBLISH
X-PUBLISHED-TTL:P3D
REFRESH-INTERVAL:P3D
CALSCALE:GREGORIAN
BEGIN:VEVENT
DTSTART:20231116T180000Z
DTEND:20231116T190000Z
X-MICROSOFT-CDO-ALLDAYEVENT:FALSE
SUMMARY:neXt - Financial Planning 101
DESCRIPTION:Save the date and join us to learn more about financial planning from some of the area's top experts! There will be plenty of time for Q&A\, so bring your questions! Please RSVP to next@willmarareachamber.com to ensure we have enough food and seating for everyone.
X-ALT-DESC;FMTTYPE=text/html:<div class="xdj266r x11i5rnm xat24cr x1mh8g0r x1vvkbs" style="margin: 0px\; overflow-wrap: break-word\; font-family: &quot\;Segoe UI Historic&quot\;\, &quot\;Segoe UI&quot\;\, Helvetica\, Arial\, sans-serif\; color: rgb(5\, 5\, 5)\; font-size: 15px\;">\n<div><span style="font-size: 13px\;">Save the date and join us to learn more about financial planning from some of the area&#39\;s top experts! There will be plenty of time for Q&amp\;A\, so bring your questions! Please RSVP to next@willmarareachamber.com to ensure we have enough food and seating for everyone.&nbsp\;</span></div>\n</div>\n
LOCATION:Christianson PLLP Second Floor Training Room 302 SW 5th St Willmar\, MN 56201
UID:e.653.341188
SEQUENCE:3
DTSTAMP:20260421T194821Z
URL:https://public.willmarareachamber.com/events/details/next-financial-planning-101-341188
END:VEVENT

END:VCALENDAR
