BEGIN:VCALENDAR
VERSION:2.0
PRODID:-//ChamberMaster//Event Calendar 2.0//EN
METHOD:PUBLISH
X-PUBLISHED-TTL:P3D
REFRESH-INTERVAL:P3D
CALSCALE:GREGORIAN
BEGIN:VEVENT
DTSTART:20241119T180000Z
DTEND:20241119T190000Z
X-MICROSOFT-CDO-ALLDAYEVENT:FALSE
SUMMARY:neXt Developmental Series: Nonprofit Showcase
DESCRIPTION:Kandiyohi County is fortunate to have several nonprofit organizations working towards various missions that make our community a better place to live\, work\, and play. As we head into the season of giving\, this is a unique opportunity to explore how you can get involved and make a difference that resonates with your passion\, time\, and talents. Whether it's volunteering for a cause that matters to you or contributing to local efforts\, this is your chance to learn\, take action\, and get engaged.
X-ALT-DESC;FMTTYPE=text/html:<p>Kandiyohi County is fortunate to have several nonprofit organizations working towards various missions that make our community a better place to live\, work\, and play. As we head into the season of giving\, this is a unique opportunity to explore how you can get involved and make a difference that resonates with your passion\, time\, and talents. Whether it&rsquo\;s volunteering for a cause that matters to you or contributing to local efforts\, this is your chance to learn\, take action\, and get engaged.&nbsp\;</p>\n
LOCATION:Life-Science Innovations | Itasca Room 1800 Technology Dr NE\, Willmar\, MN 56201 *Please park in the Life Center South Parking Lot (L)
UID:e.653.341303
SEQUENCE:3
DTSTAMP:20260421T214543Z
URL:https://public.willmarareachamber.com/events/details/next-developmental-series-nonprofit-showcase-341303
END:VEVENT

END:VCALENDAR
