BEGIN:VCALENDAR
VERSION:2.0
PRODID:-//ChamberMaster//Event Calendar 2.0//EN
METHOD:PUBLISH
X-PUBLISHED-TTL:P3D
REFRESH-INTERVAL:P3D
CALSCALE:GREGORIAN
BEGIN:VEVENT
DTSTART:20231019T170000Z
DTEND:20231019T180000Z
X-MICROSOFT-CDO-ALLDAYEVENT:FALSE
SUMMARY:neXt - 5 Rules for Life
DESCRIPTION:Join neXt and coach\, trainer\, and speaker Desiree Petrich to learn simple life hacks that will help you to be less stressed about your productivity\, naturally!\n\n \n\n1. Act The Way You Want to Feel \n\n2. Conditional Permission\n\n3. Know Yourself Better\n\n4. Define your Identity\n\n5. Checkmate!
X-ALT-DESC;FMTTYPE=text/html:<div><span style="font-size: 13px\;">Join neXt and coach\, trainer\, and speaker Desiree Petrich to learn simple life hacks that will help you to be less stressed about your productivity\, naturally!</span></div>\n\n<div>&nbsp\;</div>\n\n<div><span style="font-size: 13px\;">1. Act The Way You Want to Feel&nbsp\;</span></div>\n\n<div><span style="font-size: 13px\;">2. Conditional Permission</span></div>\n\n<div><span style="font-size: 13px\;">3. Know Yourself Better</span></div>\n\n<div><span style="font-size: 13px\;">4. Define your Identity</span></div>\n\n<div><span style="font-size: 13px\;">5. Checkmate!</span></div>\n\n<div>&nbsp\;</div>\n\n<div>&nbsp\;</div>\n
LOCATION:Heritage Bank Community Room
UID:e.653.341184
SEQUENCE:3
DTSTAMP:20260421T214439Z
URL:https://public.willmarareachamber.com/events/details/next-5-rules-for-life-341184
END:VEVENT

END:VCALENDAR
