BEGIN:VCALENDAR
VERSION:2.0
PRODID:-//ChamberMaster//Event Calendar 2.0//EN
METHOD:PUBLISH
X-PUBLISHED-TTL:P3D
REFRESH-INTERVAL:P3D
CALSCALE:GREGORIAN
BEGIN:VEVENT
DTSTART:20251113T220000Z
DTEND:20251113T230000Z
X-MICROSOFT-CDO-ALLDAYEVENT:FALSE
SUMMARY:Multimedia Design Technology Information Session
DESCRIPTION:Develop your design eye\, software skills and confidence in Ridgewater's Multimedia Design Technology (MMDT) or Web Developer programs. Develop your creative and technical skills for a rewarding career using current industry software to communicate\, inform\, entertain\, or market ideas\, products or events.\n\n\n	Program overview with faculty instructor\n	Program versatility and career opportunities\n	Learn about admissions\, financial aid and the North Star Promise program (free tuition)\n\n\nReserve your spot\n\n\n	Call 320-222-5971\n	Register online\n\n\n\n\nContact\n\nMark Brendemuehl\n\nmark.brendemuehl@ridgewater.edu\n\n320-234-8517
X-ALT-DESC;FMTTYPE=text/html:<div>\n<p>Develop your design eye\, software skills and confidence in Ridgewater&rsquo\;s Multimedia Design Technology (MMDT) or Web Developer programs. Develop your creative and technical skills for a rewarding career using current industry software to communicate\, inform\, entertain\, or market ideas\, products or events.</p>\n\n<ul>\n	<li>Program overview with faculty instructor</li>\n	<li>Program versatility and career opportunities</li>\n	<li>Learn about admissions\, financial aid and the North Star Promise program (free tuition)</li>\n</ul>\n\n<h3>Reserve your spot</h3>\n\n<ul>\n	<li>Call&nbsp\;<a href="tel:3202225971" style="color: rgb(181\, 9\, 56)\; box-sizing: border-box\; text-decoration-line: none\; background-color: transparent\; font-weight: 700\;">320-222-5971</a></li>\n	<li><a href="https://admissions.ridgewater.edu/register/mmdt_11132025" rel="noopener" style="color: rgb(181\, 9\, 56)\; box-sizing: border-box\; text-decoration-line: none\; background-color: transparent\; font-weight: 700\;" target="_blank">Register online</a></li>\n</ul>\n</div>\n\n<div>\n<h3>Contact</h3>\n\n<p>Mark Brendemuehl</p>\n\n<p><a href="mailto:mark.brendemuehl@ridgewater.edu" style="color: rgb(181\, 9\, 56)\; box-sizing: border-box\; text-decoration-line: none\; background-color: transparent\; font-weight: 700\;">mark.brendemuehl@ridgewater.edu</a></p>\n\n<p>320-234-8517</p>\n</div>\n
LOCATION:Virtual on Zoom
UID:e.653.341438
SEQUENCE:3
DTSTAMP:20260421T083539Z
URL:https://public.willmarareachamber.com/events/details/multimedia-design-technology-information-session-11-13-2025-341438
END:VEVENT

END:VCALENDAR
