BEGIN:VCALENDAR
VERSION:2.0
PRODID:-//ChamberMaster//Event Calendar 2.0//EN
METHOD:PUBLISH
X-PUBLISHED-TTL:P3D
REFRESH-INTERVAL:P3D
CALSCALE:GREGORIAN
BEGIN:VEVENT
DTSTART:20240728T000000Z
DTEND:20240728T040000Z
X-MICROSOFT-CDO-ALLDAYEVENT:FALSE
SUMMARY:Melvin's Throwback 2024
DESCRIPTION:Join us for this fun concert on the beach featuring live music from local favorite Boogie Wonderland! Get your tickets now - seating will be limited!\n\n\n\nLakes Area Raffle\n\nRaffle drawing for a grand prize of $5\,000 and more! Purchase $20 tickets at the Chamber or at the event. \n\n\n\nBoat Slips \n\nWant to park your boat or pontoon at the Zorbaz dock during the event? A limited number of boat slips are available for $200 each. Tickets sold separately. \n\n\n\nProceeds from the event and raffle will benefit the Willmar Lakes Area Chamber of Commerce. The event will take place rain or shine.
X-ALT-DESC;FMTTYPE=text/html:Join us for this fun concert on the beach featuring live music from local favorite Boogie Wonderland! Get your tickets now - seating will be limited!<br />\n<br />\n<span style="font-weight: bolder\; box-sizing: border-box\; color: rgb(68\, 68\, 68)\; font-family: Arial\, Helvetica\, sans-serif\; font-size: 14px\;">Lakes Area Raffle</span><br style="box-sizing: border-box\; color: rgb(68\, 68\, 68)\; font-family: Arial\, Helvetica\, sans-serif\; font-size: 14px\;" />\n<span style="color: rgb(68\, 68\, 68)\; font-family: Arial\, Helvetica\, sans-serif\; font-size: 14px\;">Raffle drawing for a grand prize of $5\,000 and more! Purchase $20 tickets at the Chamber or at the event.&nbsp\;</span><br style="box-sizing: border-box\; color: rgb(68\, 68\, 68)\; font-family: Arial\, Helvetica\, sans-serif\; font-size: 14px\;" />\n<br style="box-sizing: border-box\; color: rgb(68\, 68\, 68)\; font-family: Arial\, Helvetica\, sans-serif\; font-size: 14px\;" />\n<span style="font-weight: bolder\; box-sizing: border-box\; color: rgb(68\, 68\, 68)\; font-family: Arial\, Helvetica\, sans-serif\; font-size: 14px\;">Boat Slips&nbsp\;</span><br style="box-sizing: border-box\; color: rgb(68\, 68\, 68)\; font-family: Arial\, Helvetica\, sans-serif\; font-size: 14px\;" />\n<span style="color: rgb(68\, 68\, 68)\; font-family: Arial\, Helvetica\, sans-serif\; font-size: 14px\;">Want to park your boat or pontoon at the Zorbaz dock during the event? A limited number of boat slips are available for $200 each. Tickets sold separately.&nbsp\;</span><br />\n<br />\n<strong><em>Proceeds from the event and raffle will benefit the Willmar Lakes Area Chamber of Commerce. The event will take place rain or shine.&nbsp\;</em></strong>
LOCATION:Zorbaz on Green Lake 159 Lake Ave S Spicer\, MN 56288
UID:e.653.341212
SEQUENCE:3
DTSTAMP:20260421T130521Z
URL:https://public.willmarareachamber.com/events/details/melvin-s-throwback-2024-341212
END:VEVENT

END:VCALENDAR
