BEGIN:VCALENDAR
VERSION:2.0
PRODID:-//ChamberMaster//Event Calendar 2.0//EN
METHOD:PUBLISH
X-PUBLISHED-TTL:P3D
REFRESH-INTERVAL:P3D
CALSCALE:GREGORIAN
BEGIN:VEVENT
DTSTART:20231109T180000Z
DTEND:20231109T190000Z
X-MICROSOFT-CDO-ALLDAYEVENT:FALSE
SUMMARY:Lunch with Leaders: What Does DEI Mean for Business?
DESCRIPTION:Join us to learn more about diversity\, equity\, and inclusion\, as well as the challenges and opportunities it presents for businesses. Panelists include: Shay Marlowe\, Diversity Recruiter for the Minnesota Department of Human Services\; Fadumo Hussein\, owner of FAJ Language Services\; Pablo Obregon\, Director of Community Growth for the City of Willmar\; Abdirizak Mahboub\, owner of West Central Interpreting Services and VaLoris Anderson\, Executive Director of Advocacy and Inclusion Matter.
X-ALT-DESC;FMTTYPE=text/html:Join us to learn more about diversity\, equity\, and inclusion\, as well as the challenges and opportunities it presents for businesses. Panelists include: Shay Marlowe\, Diversity Recruiter for the Minnesota Department of Human Services\; Fadumo Hussein\, owner of FAJ Language Services\; Pablo Obregon\, Director of Community Growth for the City of Willmar\; Abdirizak Mahboub\, owner of West Central Interpreting Services and VaLoris Anderson\, Executive Director of Advocacy and Inclusion Matter.
LOCATION:Bremer Bank Community Room
UID:e.653.341173
SEQUENCE:3
DTSTAMP:20260421T195829Z
URL:https://public.willmarareachamber.com/events/details/lunch-with-leaders-what-does-dei-mean-for-business-341173
END:VEVENT

END:VCALENDAR
