BEGIN:VCALENDAR
VERSION:2.0
PRODID:-//ChamberMaster//Event Calendar 2.0//EN
METHOD:PUBLISH
X-PUBLISHED-TTL:P3D
REFRESH-INTERVAL:P3D
CALSCALE:GREGORIAN
BEGIN:VEVENT
DTSTART:20260521T170000Z
DTEND:20260521T183000Z
X-MICROSOFT-CDO-ALLDAYEVENT:FALSE
SUMMARY:Leadership Perspectives Graduation
DESCRIPTION:The Willmar Lakes Area Chamber proudly presents the 34th Annual Leadership Perspectives Graduation. With over 1\,000 graduates to date\, this premier program develops informed\, motivated leaders committed to our business community. Join us for a luncheon as we honor this year's class of emerging leaders and their contributions to the future of our region.\n\n\n\nMeet the 2026 graduating class: willmarareachamber.com/leadership-perspectives
X-ALT-DESC;FMTTYPE=text/html:The Willmar Lakes Area Chamber proudly presents the 34th Annual Leadership Perspectives Graduation. With over 1\,000 graduates to date\, this premier program develops informed\, motivated leaders committed to our business community. Join us for a luncheon as we honor this year&rsquo\;s class of emerging leaders and their contributions to the future of our region.<br />\n<br />\nMeet the 2026 graduating class: <a href="http://willmarareachamber.com/leadership-perspectives">willmarareachamber.com/leadership-perspectives</a>
LOCATION:Willmar Conference Center 240 23rd St SE\, Willmar\, MN 56201
UID:e.653.341531
SEQUENCE:3
DTSTAMP:20260423T084731Z
URL:https://public.willmarareachamber.com/events/details/leadership-perspectives-graduation-341531
END:VEVENT

END:VCALENDAR
