BEGIN:VCALENDAR
VERSION:2.0
PRODID:-//ChamberMaster//Event Calendar 2.0//EN
METHOD:PUBLISH
X-PUBLISHED-TTL:P3D
REFRESH-INTERVAL:P3D
CALSCALE:GREGORIAN
BEGIN:VEVENT
DTSTART:20251009T170000Z
DTEND:20251009T220000Z
X-MICROSOFT-CDO-ALLDAYEVENT:FALSE
SUMMARY:Kitchen Fair Grand Re-Opening
DESCRIPTION:Mark Your Calendars! ??\n\n\n\nKitchen Fair is having its Grand Re-Opening\, and you're invited to celebrate with us! Come enjoy an afternoon with refreshments provided\, exciting hourly door prizes\, and the chance to win our Grand Prize. \n\nWhether you've shopped with us before or it's your first visit\, this is the perfect time to stop by\, see what's new\, and join the celebration. We can't wait to see you at Kitchen Fair!
X-ALT-DESC;FMTTYPE=text/html:<strong><span style="font-family:aptos\,sans-serif">Mark Your Calendars!</span></strong> <strong><span style="font-family:segoe ui emoji\,sans-serif">??</span></strong><br />\n<br />\nKitchen Fair is having its <strong><span style="font-family:aptos\,sans-serif">Grand Re-Opening</span></strong>\, and you&rsquo\;re invited to celebrate with us! Come enjoy an afternoon with <strong><span style="font-family:aptos\,sans-serif">refreshments provided</span></strong>\, exciting <strong><span style="font-family:aptos\,sans-serif">hourly door prizes</span></strong>\, and the chance to win our <strong><span style="font-family:aptos\,sans-serif">Grand Prize</span></strong>.&nbsp\;<br />\nWhether you&rsquo\;ve shopped with us before or it&rsquo\;s your first visit\, this is the perfect time to stop by\, see what&rsquo\;s new\, and join the celebration. We can&rsquo\;t wait to see you at Kitchen Fair!
LOCATION:313 5th St. SW Willmar\, MN 56201
UID:e.653.341427
SEQUENCE:3
DTSTAMP:20260421T113740Z
URL:https://public.willmarareachamber.com/events/details/kitchen-fair-grand-re-opening-341427
END:VEVENT

END:VCALENDAR
