BEGIN:VCALENDAR
VERSION:2.0
PRODID:-//ChamberMaster//Event Calendar 2.0//EN
METHOD:PUBLISH
X-PUBLISHED-TTL:P3D
REFRESH-INTERVAL:P3D
CALSCALE:GREGORIAN
BEGIN:VEVENT
DTSTART:20251106T170000Z
DTEND:20251106T180000Z
X-MICROSOFT-CDO-ALLDAYEVENT:FALSE
SUMMARY:Cracking the Code: How AI Decides Which Local Businesses to Feature in Search Results
DESCRIPTION:As AI tools increasingly replace traditional search for finding local services\, most business owners have no idea how to get noticed by these powerful recommendation engines. We'll break down the most critical factors that influence AI recommendations and show you how to strengthen each one. By the end of this webinar\, you'll have a clear roadmap to increase your AI visibility and capture more customers who are asking AI for local business recommendations.
X-ALT-DESC;FMTTYPE=text/html:<span style="font-family:arial\,sans-serif\; font-size:11pt">As AI tools increasingly replace traditional search for finding local services\, most business owners have no idea how to get noticed by these powerful recommendation engines. We&#39\;ll break down the most critical factors that influence AI recommendations and show you how to strengthen each one. By the end of this webinar\, you&#39\;ll have a clear roadmap to increase your AI visibility and capture more customers who are asking AI for local business recommendations.</span>
LOCATION:Free online webinar\, but registration is required
UID:e.653.341402
SEQUENCE:3
DTSTAMP:20260419T133543Z
URL:https://public.willmarareachamber.com/events/details/cracking-the-code-how-ai-decides-which-local-businesses-to-feature-in-search-results-341402
END:VEVENT

END:VCALENDAR
