BEGIN:VCALENDAR
VERSION:2.0
PRODID:-//ChamberMaster//Event Calendar 2.0//EN
METHOD:PUBLISH
X-PUBLISHED-TTL:P3D
REFRESH-INTERVAL:P3D
CALSCALE:GREGORIAN
BEGIN:VEVENT
DTSTART:20251120T160000Z
DTEND:20251120T180000Z
X-MICROSOFT-CDO-ALLDAYEVENT:FALSE
SUMMARY:Community Health Fair
DESCRIPTION:This event is open to the public.\n\n_______\n\nJoin us for our Community Health Fair where you can learn how to live a healthier lifestyle and get free giveaways!\n\nBusinesses from the area are coming to campus to display information on fitness\, eye care\, dental care\, nursing\, weight loss programs\, public health resources\, and more!\n\nGet free samples at vendor booths and enter to win door prizes or a grand prize! Door prizes will be given away every half hour\; grand prize entries will be selected at 12:30 pm. (Need not be present to win.)\n\n_______\n\nSeeking Vendors!\n\nWe have room for 40 vendors\, so sign up early.\n\nThere is no fee for having a vendor table\, so if your business or organization would like to have a table at one or both of our Health Fairs\, please sign up using the link below by Friday\, Nov. 07\, 2025:\n\ntiny.cc/rchealthfair\n\n_______\n\nFor more information\, please contact:\n\nAngela Haas\n\nStudent Activities & Wellness Coordinator\n\n320-222-5643\n\nangela.haas@ridgewater.edu
X-ALT-DESC;FMTTYPE=text/html:<div>\n<p><strong>This event is open to the public.</strong></p>\n\n<p>_______</p>\n\n<p>Join us for our Community Health Fair where you can learn how to live a healthier lifestyle and get free giveaways!</p>\n\n<p>Businesses from the area are coming to campus to display information on fitness\, eye care\, dental care\, nursing\, weight loss programs\, public health resources\, and more!</p>\n\n<p>Get free samples at vendor booths and enter to win door prizes or a grand prize! Door prizes will be given away every half hour\; grand prize entries will be selected at 12:30 pm. (Need not be present to win.)</p>\n\n<p>_______</p>\n\n<p>Seeking Vendors!</p>\n\n<p>We have room for 40 vendors\, so sign up early.</p>\n\n<p>There is no fee for having a vendor table\, so if your business or organization would like to have a table at one or both of our Health Fairs\, please sign up using the link below by Friday\, Nov. 07\, 2025:</p>\n\n<p><a href="http://tiny.cc/rchealthfair">tiny.cc/rchealthfair</a></p>\n\n<p>_______</p>\n\n<p>For more information\, please contact:</p>\n\n<p>Angela Haas</p>\n\n<p>Student Activities &amp\; Wellness Coordinator</p>\n\n<p>320-222-5643</p>\n\n<p><a class="ProsemirrorEditor-link" href="mailto:angela.haas@ridgewater.edu">angela.haas@ridgewater.edu</a></p>\n</div>\n
LOCATION:Ridgewater College - Willmar Campus Cafeteria
UID:e.653.341442
SEQUENCE:3
DTSTAMP:20260421T131155Z
URL:https://public.willmarareachamber.com/events/details/community-health-fair-341442
END:VEVENT

END:VCALENDAR
