BEGIN:VCALENDAR
VERSION:2.0
PRODID:-//ChamberMaster//Event Calendar 2.0//EN
METHOD:PUBLISH
X-PUBLISHED-TTL:P3D
REFRESH-INTERVAL:P3D
CALSCALE:GREGORIAN
BEGIN:VEVENT
DTSTART:20241101T123000Z
DTEND:20241101T133000Z
X-MICROSOFT-CDO-ALLDAYEVENT:FALSE
SUMMARY:Chamber Connection - Ridgewater College
DESCRIPTION:Please join us for networking\, prize drawings\, and all the latest news and announcements from the local business community. \n\n\n\nChamber Connections are networking events hosted Friday mornings from 7:30-8:30 at different Chamber member businesses. Everyone gets a chance to introduce themselves and share a brief update on their business or community happenings. The host ends the Connection with an overview of their business followed by a drawing for door prizes.
X-ALT-DESC;FMTTYPE=text/html:<div class="xdj266r x11i5rnm xat24cr x1mh8g0r x1vvkbs" style="margin: 0px\; overflow-wrap: break-word\; font-family: &quot\;Segoe UI Historic&quot\;\, &quot\;Segoe UI&quot\;\, Helvetica\, Arial\, sans-serif\; color: rgb(5\, 5\, 5)\; font-size: 15px\;"><span style="color: rgb(5\, 5\, 5)\; font-family: &quot\;Segoe UI Historic&quot\;\, &quot\;Segoe UI&quot\;\, Helvetica\, Arial\, sans-serif\; font-size: 15px\;">&#8203\;</span><span style="color: rgb(5\, 5\, 5)\; font-family: &quot\;Segoe UI Historic&quot\;\, &quot\;Segoe UI&quot\;\, Helvetica\, Arial\, sans-serif\; font-size: 15px\;">Please join us for networking\, prize drawings\, and all the latest news and announcements from the local business community.&nbsp\;<br />\n<br />\nChamber Connections are networking events hosted Friday mornings from 7:30-8:30 at different Chamber member businesses. Everyone gets a chance to introduce themselves and share a brief update on their business or community happenings. The host ends the Connection with an overview of their business followed by a drawing for door prizes.</span><br />\n<br />\n&nbsp\;</div>\n
LOCATION:
UID:e.653.341318
SEQUENCE:3
DTSTAMP:20260421T215941Z
URL:https://public.willmarareachamber.com/events/details/chamber-connection-ridgewater-college-11-08-2024-341318
END:VEVENT

END:VCALENDAR
