BEGIN:VCALENDAR
VERSION:2.0
PRODID:-//ChamberMaster//Event Calendar 2.0//EN
METHOD:PUBLISH
X-PUBLISHED-TTL:P3D
REFRESH-INTERVAL:P3D
CALSCALE:GREGORIAN
BEGIN:VEVENT
DTSTART:20230922T123000Z
DTEND:20230922T133000Z
X-MICROSOFT-CDO-ALLDAYEVENT:FALSE
SUMMARY:Chamber Connection "Engan Associates Architects"
DESCRIPTION:
X-ALT-DESC;FMTTYPE=text/html:
LOCATION:
UID:e.653.341174
SEQUENCE:3
DTSTAMP:20260422T010816Z
URL:https://public.willmarareachamber.com/events/details/chamber-connection-engan-associates-architects-341174
END:VEVENT

END:VCALENDAR
