BEGIN:VCALENDAR
VERSION:2.0
PRODID:-//ChamberMaster//Event Calendar 2.0//EN
METHOD:PUBLISH
X-PUBLISHED-TTL:P3D
REFRESH-INTERVAL:P3D
CALSCALE:GREGORIAN
BEGIN:VEVENT
DTSTART:20250123T133000Z
DTEND:20250123T150000Z
X-MICROSOFT-CDO-ALLDAYEVENT:FALSE
SUMMARY:AI Pulse: Strategies for the AI Age
DESCRIPTION:Known for her dynamic and engaging style\, Princess Paula will show you how Generative AI is transforming the business landscape\, and more importantly\, how you can harness its power for your own success. The world of technology is growing and evolving quickly and whether you're a small business owner or leading a growing enterprise\, this session will provide the insights and tools you need to embrace AI and enhance your operations. With Paula's engaging and hands-on approach\, you'll leave equipped and confident to put AI to work for you right away!\n\n\n\nKey takeaways include:\n\n- Explore the history and background of generative AI\n\n- Discover practical\, easy-to-apply AI strategies for your business\n\n- Get hands-on experience with AI tools during the event\n\n- Leave with actionable insights that you can implement immediately\n\n\n\nDon't miss this exciting opportunity to uncover practical insights and strategies that can truly elevate your business! A light breakfast will be provided.
X-ALT-DESC;FMTTYPE=text/html:Known for her dynamic and engaging style\, Princess Paula will show you how Generative AI is transforming the business landscape\, and more importantly\, how you can harness its power for your own success. The world of technology is growing and evolving quickly and whether you&rsquo\;re a small business owner or leading a growing enterprise\, this session will provide the insights and tools you need to embrace AI and enhance your operations. With Paula&rsquo\;s engaging and hands-on approach\, you&rsquo\;ll leave equipped and confident to put AI to work for you right away!<br />\n<br />\nKey takeaways include:<br />\n- Explore the history and background of generative AI<br />\n- Discover practical\, easy-to-apply AI strategies for your business<br />\n- Get hands-on experience with AI tools during the event<br />\n- Leave with actionable insights that you can implement immediately<br />\n<br />\nDon&rsquo\;t miss this exciting opportunity to uncover practical insights and strategies that can truly elevate your business! A light breakfast will be provided.
LOCATION:Heritage Bank Community Room
UID:e.653.341329
SEQUENCE:3
DTSTAMP:20260422T010904Z
URL:https://public.willmarareachamber.com/events/details/ai-pulse-strategies-for-the-ai-age-341329
END:VEVENT

END:VCALENDAR
